BEGIN:VCALENDAR
VERSION:2.0
PRODID:-//IL Connect - ECPv6.15.20//NONSGML v1.0//EN
CALSCALE:GREGORIAN
METHOD:PUBLISH
X-WR-CALNAME:IL Connect
X-ORIGINAL-URL:https://ilconnect.org
X-WR-CALDESC:Events for IL Connect
REFRESH-INTERVAL;VALUE=DURATION:PT1H
X-Robots-Tag:noindex
X-PUBLISHED-TTL:PT1H
BEGIN:VTIMEZONE
TZID:UTC
BEGIN:STANDARD
TZOFFSETFROM:+0000
TZOFFSETTO:+0000
TZNAME:UTC
DTSTART:20240101T000000
END:STANDARD
END:VTIMEZONE
BEGIN:VEVENT
DTSTART;TZID=UTC:20251018T100000
DTEND;TZID=UTC:20251018T140000
DTSTAMP:20260423T223940
CREATED:20250915T173750Z
LAST-MODIFIED:20250915T173750Z
UID:1780-1760781600-1760796000@ilconnect.org
SUMMARY:Morgan County Regional ILP Meeting
DESCRIPTION:Morgan County will be hosting a Regional ILP Meeting on Saturday\, October 18th from 10am-2pm at Decatur Baptist Church (2527 Danville Rd.  SW Decatur\, Al. 35603). \nArea IL youth\, foster parents\, and providers will have the opportunity to connect and learn what ILP can do! There will be door prizes\, games\, and more! Lunch will be provided! \nPlease don’t forget to register! \nRegister using this link: https://form.jotform.com/ilconnect/250655102505144
URL:https://ilconnect.org/calendar/morgan-county-regional-ilp-meeting/
LOCATION:Decatur Baptist Church\, 2527 Danville Rd.  SW\, Decatur\, AL\, 35603\, United States
ATTACH;FMTTYPE=application/pdf:https://ilconnect.org/wp-content/uploads/2025/09/Morgan-County-Regional-ILP-5.pdf
END:VEVENT
END:VCALENDAR