BEGIN:VCALENDAR
VERSION:2.0
PRODID:-//IL Connect - ECPv6.15.20//NONSGML v1.0//EN
CALSCALE:GREGORIAN
METHOD:PUBLISH
X-ORIGINAL-URL:https://ilconnect.org
X-WR-CALDESC:Events for IL Connect
REFRESH-INTERVAL;VALUE=DURATION:PT1H
X-Robots-Tag:noindex
X-PUBLISHED-TTL:PT1H
BEGIN:VTIMEZONE
TZID:UTC
BEGIN:STANDARD
TZOFFSETFROM:+0000
TZOFFSETTO:+0000
TZNAME:UTC
DTSTART:20240101T000000
END:STANDARD
END:VTIMEZONE
BEGIN:VEVENT
DTSTART;TZID=UTC:20250503T100000
DTEND;TZID=UTC:20250503T140000
DTSTAMP:20260424T055029
CREATED:20250401T201027Z
LAST-MODIFIED:20250401T201027Z
UID:1746-1746266400-1746280800@ilconnect.org
SUMMARY:IL Graduation Celebration
DESCRIPTION:REGISTER HERE!!! \nRegistration for 2025 Graduation Celebration is LIVE!  The event is held again this year at the Harbert Center in Birmingham!  We have attached our list of graduating (high school or GED) youth as provided by your county.  Please review for any updates needed and provide the information in this email to your youth and their caregivers so they can arrange to participate.  Please\, let me know of any changes to the Graduate list. \n\nDRESS UP \nWe are encouraging our youth to dress up for this event!  This will be a great time to go shopping with your youth and provide them with a special incentive outfit to commemorate their achievement!  Counties can use IL funds to purchase youth’s outfit as an incentive for them to attend this occasion by using Code 6011.  Use this email as indication of approval from State DHR to purchase their outfit as an “incentive” from IL fundsthat might go over the regular incentive limit of $50 for county approval!  This can also be a great IL skill building opportunity related to appropriate clothing for events where they are being honored! \n\nSENIOR PORTRAITS \nAs with last year\, Heart Gallery will be partnering with us to provide a Senior Portraits at the event.  As they arrive to the event\, professional photographers will be present to take youth’s portrait picture to help commemorate their accomplishment.   
URL:https://ilconnect.org/calendar/il-graduation-celebration/
LOCATION:Harbert Center\, 2019 4th Ave N\, Birmingham\, Alabama\, 35203
ATTACH;FMTTYPE=image/png:https://ilconnect.org/wp-content/uploads/2025/04/2024-Graduation-Celebration-Sign-In-2.png
END:VEVENT
END:VCALENDAR