BEGIN:VCALENDAR
VERSION:2.0
PRODID:-//IL Connect - ECPv6.15.20//NONSGML v1.0//EN
CALSCALE:GREGORIAN
METHOD:PUBLISH
X-WR-CALNAME:IL Connect
X-ORIGINAL-URL:https://ilconnect.org
X-WR-CALDESC:Events for IL Connect
REFRESH-INTERVAL;VALUE=DURATION:PT1H
X-Robots-Tag:noindex
X-PUBLISHED-TTL:PT1H
BEGIN:VTIMEZONE
TZID:UTC
BEGIN:STANDARD
TZOFFSETFROM:+0000
TZOFFSETTO:+0000
TZNAME:UTC
DTSTART:20230101T000000
END:STANDARD
END:VTIMEZONE
BEGIN:VTIMEZONE
TZID:America/Chicago
BEGIN:DAYLIGHT
TZOFFSETFROM:-0600
TZOFFSETTO:-0500
TZNAME:CDT
DTSTART:20230312T080000
END:DAYLIGHT
BEGIN:STANDARD
TZOFFSETFROM:-0500
TZOFFSETTO:-0600
TZNAME:CST
DTSTART:20231105T070000
END:STANDARD
BEGIN:DAYLIGHT
TZOFFSETFROM:-0600
TZOFFSETTO:-0500
TZNAME:CDT
DTSTART:20240310T080000
END:DAYLIGHT
BEGIN:STANDARD
TZOFFSETFROM:-0500
TZOFFSETTO:-0600
TZNAME:CST
DTSTART:20241103T070000
END:STANDARD
BEGIN:DAYLIGHT
TZOFFSETFROM:-0600
TZOFFSETTO:-0500
TZNAME:CDT
DTSTART:20250309T080000
END:DAYLIGHT
BEGIN:STANDARD
TZOFFSETFROM:-0500
TZOFFSETTO:-0600
TZNAME:CST
DTSTART:20251102T070000
END:STANDARD
END:VTIMEZONE
BEGIN:VEVENT
DTSTART;TZID=UTC:20241207T100000
DTEND;TZID=UTC:20241207T140000
DTSTAMP:20260423T180500
CREATED:20241118T194523Z
LAST-MODIFIED:20241118T200658Z
UID:1548-1733565600-1733580000@ilconnect.org
SUMMARY:Calhoun County Regional ILP Meeting
DESCRIPTION:Calhoun County will be hosting a Regional ILP Meeting on Saturday\, December 7th from 10am-2pm at Word Alive International Outreach (122 Allendale Rd. Oxford\, AL 36203) \nArea IL  youth will have the opportunity to connect and learn what ILP can do! There will be door prizes\, games\, and more! Lunch will be provided! \nPlease don’t forget to register!
URL:https://ilconnect.org/calendar/1548/
LOCATION:Word Alive\, 122 Allendale Rd\, Oxford\, AL\, 35022\, United States
END:VEVENT
BEGIN:VEVENT
DTSTART;TZID=America/Chicago:20241019T100000
DTEND;TZID=America/Chicago:20241019T140000
DTSTAMP:20260423T180500
CREATED:20241001T204639Z
LAST-MODIFIED:20241001T204639Z
UID:1492-1729332000-1729346400@ilconnect.org
SUMMARY:Houston County Regional ILP Meeting
DESCRIPTION:CALLING HOUSTON\, GENEVA\, COVINGTON\, COFFEE\, DALE\, HENRY\, BARBOUR\, & PIKE COUNTY! \nHouston County will be hosting a Regional ILP Meeting on Saturday\, October 19th from 10am-2pm at First Baptist Church (300 West Main Street Dothan\, AL 36071) in Dothan. \nArea IL  youth will have the opportunity to connect and learn what ILP can do! There will be door prizes\, games\, and more! Lunch will be provided \nClick HERE to register
URL:https://ilconnect.org/calendar/houston-county-regional-ilp-meeting/
LOCATION:First Baptist Church\, 721 Greensboro Avenue\, Tuscaloosa\, AL\, 35401\, United States
CATEGORIES:Regional ILP
ATTACH;FMTTYPE=image/jpeg:https://ilconnect.org/wp-content/uploads/2024/10/group-people-sit-chair-talk-with-one-them-wearing-shirt-that-says-word-it-scaled.jpg
END:VEVENT
END:VCALENDAR