BEGIN:VCALENDAR
VERSION:2.0
PRODID:-//IL Connect - ECPv6.15.20//NONSGML v1.0//EN
CALSCALE:GREGORIAN
METHOD:PUBLISH
X-ORIGINAL-URL:https://ilconnect.org
X-WR-CALDESC:Events for IL Connect
REFRESH-INTERVAL;VALUE=DURATION:PT1H
X-Robots-Tag:noindex
X-PUBLISHED-TTL:PT1H
BEGIN:VTIMEZONE
TZID:UTC
BEGIN:STANDARD
TZOFFSETFROM:+0000
TZOFFSETTO:+0000
TZNAME:UTC
DTSTART:20250101T000000
END:STANDARD
END:VTIMEZONE
BEGIN:VEVENT
DTSTART;TZID=UTC:20260314T100000
DTEND;TZID=UTC:20260314T140000
DTSTAMP:20260424T001529
CREATED:20260226T202931Z
LAST-MODIFIED:20260226T202931Z
UID:1867-1773482400-1773496800@ilconnect.org
SUMMARY:Walker County Regional ILP Meeting
DESCRIPTION:Walker County will be hosting a Regional ILP Meeting on Saturday\, March 14th from 10am-2pm at Eastside Baptist Church (1700 Viking Dr.\, Jasper\, Al. 35501). \nArea IL youth and providers will have the opportunity to connect and learn what ILP can do! There will be door prizes\, games\, and more and lunch will be provided! \nPlease don’t forget to register! \nRegister using this link:https://form.jotform.com/260065144051142
URL:https://ilconnect.org/calendar/walker-county-regional-ilp-meeting/
LOCATION:Eastside Baptist Church\, 1700 Viking Dr.\, Jasper\, AL\, 35501\, United States
ATTACH;FMTTYPE=application/pdf:https://ilconnect.org/wp-content/uploads/2026/02/Walker-County-Regional-Flyer-1.pdf
END:VEVENT
BEGIN:VEVENT
DTSTART;TZID=UTC:20260331T110000
DTEND;TZID=UTC:20260331T230000
DTSTAMP:20260424T001529
CREATED:20260209T181452Z
LAST-MODIFIED:20260209T181452Z
UID:1822-1774954800-1774998000@ilconnect.org
SUMMARY:2026 ILP Networking Conference
DESCRIPTION:We are extremely excited to announce the 2026 Independent Living Networking Conference! Children’s Aid Society of Alabama and Alabama DHR have the pleasure of bringing together Alabama Social Workers\, ILP Partners and Providers to connect\, network and hold space together and learn about all things ILP! This year we want to focus on ensuring that all ILP Social Workers\, Providers and Partners walk away from our conference feeling equipped to support our IL Youth as they “Ride the Waves of Resilience”! We will enjoy learning and connecting again this year at Lake Guntersville State Park in Guntersville\, AL on March 31st\, April\, 1st and 2nd\, 2026. We look forward to seeing each of you\, knowing that supporting you\, your work and growth\, supports our youth\, and our communities as a whole! Space is limited per county so please ensure to register as soon as possible! \n  \nRegistration link:https://form.jotform.com/260284992952065
URL:https://ilconnect.org/calendar/2026-ilp-networking-conference/
LOCATION:Lake Guntersville State Park\, 1155 Lodge Dr\, Guntersville\, 35976\, United States
ATTACH;FMTTYPE=application/pdf:https://ilconnect.org/wp-content/uploads/2026/02/2026-ILP-Networking-Conference-2.pdf
END:VEVENT
BEGIN:VEVENT
DTSTART;TZID=UTC:20260401T080000
DTEND;TZID=UTC:20260401T230000
DTSTAMP:20260424T001529
CREATED:20260209T185125Z
LAST-MODIFIED:20260209T185125Z
UID:1819-1775030400-1775084400@ilconnect.org
SUMMARY:2026 ILP Networking Conference
DESCRIPTION:We are extremely excited to announce the 2026 Independent Living Networking Conference! Children’s Aid Society of Alabama and Alabama DHR have the pleasure of bringing together Alabama Social Workers\, ILP Partners and Providers to connect\, network and hold space together and learn about all things ILP! This year we want to focus on ensuring that all ILP Social Workers\, Providers and Partners walk away from our conference feeling equipped to support our IL Youth as they “Ride the Waves of Resilience”! We will enjoy learning and connecting again this year at Lake Guntersville State Park in Guntersville\, AL on March 31st\, April\, 1st and 2nd\, 2026. We look forward to seeing each of you\, knowing that supporting you\, your work and growth\, supports our youth\, and our communities as a whole! Space is limited per county so please ensure to register as soon as possible! \n*DHR Staff must also register through LETS!* \n  \nRegistration link: https://form.jotform.com/260284992952065
URL:https://ilconnect.org/calendar/2026-ilp-networking-conference-2/
LOCATION:Lake Guntersville State Park\, 1155 Lodge Dr\, Guntersville\, 35976\, United States
ATTACH;FMTTYPE=application/pdf:https://ilconnect.org/wp-content/uploads/2026/02/2026-ILP-Networking-Conference-2-1.pdf
END:VEVENT
BEGIN:VEVENT
DTSTART;TZID=UTC:20260402T080000
DTEND;TZID=UTC:20260402T130000
DTSTAMP:20260424T001529
CREATED:20260209T185542Z
LAST-MODIFIED:20260209T185542Z
UID:1830-1775116800-1775134800@ilconnect.org
SUMMARY:2026 Independent Living Networking Conference
DESCRIPTION:We are extremely excited to announce the 2026 Independent Living Networking Conference! Children’s Aid Society of Alabama and Alabama DHR have the pleasure of bringing together Alabama Social Workers\, ILP Partners and Providers to connect\, network and hold space together and learn about all things ILP! This year we want to focus on ensuring that all ILP Social Workers\, Providers and Partners walk away from our conference feeling equipped to support our IL Youth as they “Ride the Waves of Resilience”! We will enjoy learning and connecting again this year at Lake Guntersville State Park in Guntersville\, AL on March 31st\, April\, 1st and 2nd\, 2026. We look forward to seeing each of you\, knowing that supporting you\, your work and growth\, supports our youth\, and our communities as a whole! Space is limited per county so please ensure to register as soon as possible! \n*DHR Staff must also register through LETS!* \nRegistration link:https://form.jotform.com/260284992952065
URL:https://ilconnect.org/calendar/2026-independent-living-networking-conference/
LOCATION:Lake Guntersville State Park\, 1155 Lodge Dr\, Guntersville\, 35976\, United States
ATTACH;FMTTYPE=application/pdf:https://ilconnect.org/wp-content/uploads/2026/02/2026-ILP-Networking-Conference-2-2.pdf
END:VEVENT
END:VCALENDAR