BEGIN:VCALENDAR
VERSION:2.0
PRODID:-//IL Connect - ECPv6.15.20//NONSGML v1.0//EN
CALSCALE:GREGORIAN
METHOD:PUBLISH
X-WR-CALNAME:IL Connect
X-ORIGINAL-URL:https://ilconnect.org
X-WR-CALDESC:Events for IL Connect
REFRESH-INTERVAL;VALUE=DURATION:PT1H
X-Robots-Tag:noindex
X-PUBLISHED-TTL:PT1H
BEGIN:VTIMEZONE
TZID:UTC
BEGIN:STANDARD
TZOFFSETFROM:+0000
TZOFFSETTO:+0000
TZNAME:UTC
DTSTART:20240101T000000
END:STANDARD
END:VTIMEZONE
BEGIN:VEVENT
DTSTART;TZID=UTC:20251206T100000
DTEND;TZID=UTC:20251206T140000
DTSTAMP:20260423T223418
CREATED:20251106T172948Z
LAST-MODIFIED:20251120T154454Z
UID:1803-1765015200-1765029600@ilconnect.org
SUMMARY:Etowah County Regional ILP Meeting
DESCRIPTION:Etowah County will be hosting a Regional ILP Meeting on Saturday\, December 6th from 10am-2pm at Cross Creek Community Church (4825 Old US Highway 278E\, Hokes Bluff\, AL 35903).  \nArea IL youth\, foster parents\, and providers will have the opportunity to connect and learn what ILP can do! There will be door prizes\, games\, and more! Lunch will be provided! \nPlease don’t forget to register! \nRegister using this link: https://form.jotform.com/250655045436153
URL:https://ilconnect.org/calendar/etowah-county-regional-ilp-meeting/
LOCATION:Cross Creek Community Church\, 4825 Old US Highway 278E\, Hokes Bluff\, AL\, 35903\, United States
ATTACH;FMTTYPE=image/png:https://ilconnect.org/wp-content/uploads/2025/11/Etowah-Co.-DEC.-Regional-ILP-3.png
END:VEVENT
END:VCALENDAR